BEGIN:VCALENDAR
VERSION:2.0
PRODID:-//Soller Piano - ECPv5.7.0//NONSGML v1.0//EN
CALSCALE:GREGORIAN
METHOD:PUBLISH
X-WR-CALNAME:Soller Piano
X-ORIGINAL-URL:https://www.sollerpiano.com
X-WR-CALDESC:Events for Soller Piano
BEGIN:VTIMEZONE
TZID:America/Chicago
BEGIN:DAYLIGHT
TZOFFSETFROM:-0600
TZOFFSETTO:-0500
TZNAME:CDT
DTSTART:20210314T080000
END:DAYLIGHT
BEGIN:STANDARD
TZOFFSETFROM:-0500
TZOFFSETTO:-0600
TZNAME:CST
DTSTART:20211107T070000
END:STANDARD
END:VTIMEZONE
BEGIN:VEVENT
DTSTART;VALUE=DATE:20211113
DTEND;VALUE=DATE:20211114
DTSTAMP:20260422T180918
CREATED:20210811T171325Z
LAST-MODIFIED:20210811T171325Z
UID:243-1636761600-1636847999@www.sollerpiano.com
SUMMARY:Laurie Keyser Sonatina Tournament & Recital
DESCRIPTION:Conroe’s Sonata and Sonatina Tournament for those students competing in the tournament. At this time\, It is scheduled to be held F2F.  Fees are covered by your registrations fees.  This is an event that students prepare for the previous summer.  If you would like your student to participate in the future\, please let Dr. Soller know.
URL:https://www.sollerpiano.com/event/laurie-keyser-sonatina-tournament-recital/
END:VEVENT
BEGIN:VEVENT
DTSTART;TZID=America/Chicago:20211106T080000
DTEND;TZID=America/Chicago:20211106T170000
DTSTAMP:20260422T180918
CREATED:20210811T170818Z
LAST-MODIFIED:20210811T170818Z
UID:241-1636185600-1636218000@www.sollerpiano.com
SUMMARY:TMTA FALL THEORY TEST
DESCRIPTION:TMTA Fall Theory Test for students taking the test. \nPlease note that TIME and LOCATION are TBD
URL:https://www.sollerpiano.com/event/tmta-fall-theory-test/
END:VEVENT
BEGIN:VEVENT
DTSTART;TZID=America/Chicago:20211030T040000
DTEND;TZID=America/Chicago:20211030T170000
DTSTAMP:20260422T180918
CREATED:20210811T172730Z
LAST-MODIFIED:20210811T172730Z
UID:248-1635566400-1635613200@www.sollerpiano.com
SUMMARY:Sonata & Sonatina Recapitulation
DESCRIPTION:A Listening Party of Tournament Participants play their sonatas and sonatinas.
URL:https://www.sollerpiano.com/event/sonata-sonatina-recapitulation/
LOCATION:TBD
END:VEVENT
BEGIN:VEVENT
DTSTART;TZID=America/Chicago:20211002T040000
DTEND;TZID=America/Chicago:20211002T173000
DTSTAMP:20260422T180918
CREATED:20210811T172406Z
LAST-MODIFIED:20210811T172406Z
UID:245-1633147200-1633195800@www.sollerpiano.com
SUMMARY:Rhythm Parties
DESCRIPTION:TBD with COVID.  Maybe on Zoom. \nClasses divided into 30 minute groups by levels \nLevel I \nLevel II \nLevel III \nStudents assigned in a later update.C
URL:https://www.sollerpiano.com/event/rhythm-parties/
LOCATION:zoom
END:VEVENT
BEGIN:VEVENT
DTSTART;TZID=America/Chicago:20210918T160000
DTEND;TZID=America/Chicago:20210918T170000
DTSTAMP:20260422T180918
CREATED:20210811T170243Z
LAST-MODIFIED:20210811T170243Z
UID:238-1631980800-1631984400@www.sollerpiano.com
SUMMARY:THEORY TEST Practice
DESCRIPTION:Theory Test Practice is for those students taking the TMTA Theory Test Nov 6.  Attendance is strongly encouraged. \n 
URL:https://www.sollerpiano.com/event/theory-test-practice/
LOCATION:1910 Wildwood or ZOOM
END:VEVENT
BEGIN:VEVENT
DTSTART;TZID=America/Chicago:20210830T160000
DTEND;TZID=America/Chicago:20210830T160000
DTSTAMP:20260422T180918
CREATED:20210810T155901Z
LAST-MODIFIED:20210811T163812Z
UID:228-1630339200-1630339200@www.sollerpiano.com
SUMMARY:Studio Open
DESCRIPTION:Piano Lessons Begin \n  \n 
URL:https://www.sollerpiano.com/event/studio-open/
LOCATION:1910 Wilidwood Lane\, Richmond\, TX\, 77406\, United States
END:VEVENT
BEGIN:VEVENT
DTSTART;TZID=America/Chicago:20210821T100000
DTEND;TZID=America/Chicago:20210821T113000
DTSTAMP:20260422T180918
CREATED:20210811T165027Z
LAST-MODIFIED:20210811T165027Z
UID:235-1629540000-1629545400@www.sollerpiano.com
SUMMARY:THEORY Workbook Morning
DESCRIPTION:Bring your theory workbook\, pencil\, & mask and come to Dr. Soller’s house to work on your theory book.  Bring your water bottle too.
URL:https://www.sollerpiano.com/event/theory-workbook-morning/2021-08-21/
END:VEVENT
BEGIN:VEVENT
DTSTART;TZID=America/Chicago:20210811T093000
DTEND;TZID=America/Chicago:20210820T000000
DTSTAMP:20260422T180918
CREATED:20210811T164550Z
LAST-MODIFIED:20210811T164550Z
UID:233-1628674200-1629417600@www.sollerpiano.com
SUMMARY:Conroe MTA
DESCRIPTION:Meeting for Dr. Soller only \nHEB North Woodlands Market
URL:https://www.sollerpiano.com/event/conroe-mta/
END:VEVENT
END:VCALENDAR